BEGIN:VCALENDAR
VERSION:2.0
PRODID:-//Tukios.com/
BEGIN:VEVENT
UID:08790ccf-3412-47f7-96b0-a3e083c5b9aa@www.marshallsmortuary.com
DTSTAMP:20260421T003624Z
DTSTART:20260502T190000Z
DTEND:20260502T200000Z
SUMMARY:Cremation
DESCRIPTION:
URL:https://www.marshallsmortuary.com/obituaries/terry-cornish
LOCATION: 3900 Magnolia St  Denver CO 80207
GEO:39.7712876;-104.9116464
END:VEVENT
END:VCALENDAR