BEGIN:VCALENDAR
VERSION:2.0
PRODID:-//Tukios.com/
BEGIN:VEVENT
UID:4f15bd50-bfe4-4fa5-a423-2332281ad07b@www.marshallsmortuary.com
DTSTAMP:20260421T003752Z
DTSTART:20260502T170000Z
DTEND:20260502T180000Z
SUMMARY:Celebration of Life
DESCRIPTION:
URL:https://www.marshallsmortuary.com/obituaries/terry-cornish-2026
LOCATION: 3500 Forest  Denver  80207
GEO:39.76589;-104.9265353
END:VEVENT
END:VCALENDAR