BEGIN:VCALENDAR
VERSION:2.0
PRODID:-//Tukios.com/
BEGIN:VEVENT
UID:0d7441ca-0207-456e-af46-965b3e7ded8c@www.marshallsmortuary.com
DTSTAMP:20260421T003207Z
DTSTART:20260502T160000Z
DTEND:20260502T170000Z
SUMMARY:Visitation with Family
DESCRIPTION:
URL:https://www.marshallsmortuary.com/obituaries/terry-cornish-2026
LOCATION: 3500 Forest  Denver  80207
GEO:39.76589;-104.9265353
END:VEVENT
END:VCALENDAR