BEGIN:VCALENDAR
VERSION:2.0
PRODID:-//Tukios.com/
BEGIN:VEVENT
UID:048354aa-1554-465a-959b-612b8497178c@www.marshallsmortuary.com
DTSTAMP:20260421T003531Z
DTSTART:20260502T150000Z
DTEND:20260502T160000Z
SUMMARY:Visitation
DESCRIPTION:
URL:https://www.marshallsmortuary.com/obituaries/terry-cornish-2026
LOCATION: 3500 Forest  Denver  80207
GEO:39.76589;-104.9265353
END:VEVENT
END:VCALENDAR