BEGIN:VCALENDAR
VERSION:2.0
PRODID:-//Tukios.com/
BEGIN:VEVENT
UID:c7b34a66-2d6c-47a7-bab2-52d3ed7e8466@www.marshallsmortuary.com
DTSTAMP:20260420T215339Z
DTSTART:20260425T170000Z
DTEND:20260425T180000Z
SUMMARY:Celebration of Life
DESCRIPTION:
URL:https://www.marshallsmortuary.com/obituaries/brandon-valverde
LOCATION: 3500 Forest St  Denver CO 80207
GEO:39.76589;-104.9265353
END:VEVENT
END:VCALENDAR