BEGIN:VCALENDAR
VERSION:2.0
PRODID:-//Tukios.com/
BEGIN:VEVENT
UID:481642da-5d56-406b-9162-757754eb5f99@www.marshallsmortuary.com
DTSTAMP:20260420T214830Z
DTSTART:20260425T160000Z
DTEND:20260425T170000Z
SUMMARY:Visitation
DESCRIPTION:
URL:https://www.marshallsmortuary.com/obituaries/brandon-valverde
LOCATION: 3500 Forest St  Denver CO 80207
GEO:39.76589;-104.9265353
END:VEVENT
END:VCALENDAR