BEGIN:VCALENDAR
VERSION:2.0
PRODID:-//Tukios.com/
BEGIN:VEVENT
UID:a2f68a5a-d9a2-4f35-bacb-0de28e27ec2d@www.marshallsmortuary.com
DTSTAMP:20260420T215921Z
DTSTART:20260425T150000Z
DTEND:20260425T160000Z
SUMMARY:Visitation with Family
DESCRIPTION:
URL:https://www.marshallsmortuary.com/obituaries/brandon-valverde
LOCATION:Church of Christ at Forest Street 3500 Forest St  Denver CO 
	80207
GEO:39.76589;-104.9265353
END:VEVENT
END:VCALENDAR